BEGIN:VCALENDAR
VERSION:2.0
PRODID:-//The Lighthouse Chapel - ECPv6.15.16//NONSGML v1.0//EN
CALSCALE:GREGORIAN
METHOD:PUBLISH
X-WR-CALNAME:The Lighthouse Chapel
X-ORIGINAL-URL:https://www.tlcpsl.com
X-WR-CALDESC:Events for The Lighthouse Chapel
REFRESH-INTERVAL;VALUE=DURATION:PT1H
X-Robots-Tag:noindex
X-PUBLISHED-TTL:PT1H
BEGIN:VTIMEZONE
TZID:America/New_York
BEGIN:DAYLIGHT
TZOFFSETFROM:-0500
TZOFFSETTO:-0400
TZNAME:EDT
DTSTART:20210314T070000
END:DAYLIGHT
BEGIN:STANDARD
TZOFFSETFROM:-0400
TZOFFSETTO:-0500
TZNAME:EST
DTSTART:20211107T060000
END:STANDARD
BEGIN:DAYLIGHT
TZOFFSETFROM:-0500
TZOFFSETTO:-0400
TZNAME:EDT
DTSTART:20220313T070000
END:DAYLIGHT
BEGIN:STANDARD
TZOFFSETFROM:-0400
TZOFFSETTO:-0500
TZNAME:EST
DTSTART:20221106T060000
END:STANDARD
BEGIN:DAYLIGHT
TZOFFSETFROM:-0500
TZOFFSETTO:-0400
TZNAME:EDT
DTSTART:20230312T070000
END:DAYLIGHT
BEGIN:STANDARD
TZOFFSETFROM:-0400
TZOFFSETTO:-0500
TZNAME:EST
DTSTART:20231105T060000
END:STANDARD
END:VTIMEZONE
BEGIN:VEVENT
DTSTART;TZID=America/New_York:20221224T183000
DTEND;TZID=America/New_York:20221224T200000
DTSTAMP:20260424T054400
CREATED:20211219T162759Z
LAST-MODIFIED:20221106T002811Z
UID:341-1671906600-1671912000@www.tlcpsl.com
SUMMARY:TLC'S Christmas Eve Candlelight Service
DESCRIPTION:
URL:https://www.tlcpsl.com/event/tlcs-christmas-eve-candlelight-service/
LOCATION:The Lighthouse Chapel\, 6681 Selvitz Road\, Port St. Lucie\, 34983\, United States
CATEGORIES:Christmas Eve
END:VEVENT
END:VCALENDAR